BEGIN:VCALENDAR
VERSION:2.0
PRODID:-//ChamberMaster//Event Calendar 2.0//EN
METHOD:PUBLISH
X-PUBLISHED-TTL:P3D
REFRESH-INTERVAL:P3D
CALSCALE:GREGORIAN
BEGIN:VEVENT
DTSTART:20110127T220000Z
DTEND:20110128T000000Z
X-MICROSOFT-CDO-ALLDAYEVENT:FALSE
SUMMARY:Networking after Hours
DESCRIPTION:Join us for the first Networking after Hours Mixer\n\n	\n\n	Heritage Real Estate
X-ALT-DESC;FMTTYPE=text/html:<p style="text-align: center">\n	Join us for the first Networking after Hours Mixer<br />\n	<br />\n	Heritage Real Estate&nbsp\;</p>\n
LOCATION:Heritage Real Estate 1201 Westford Street Lowell
UID:e.554.148
SEQUENCE:3
DTSTAMP:20260421T180321Z
URL:http://lowell-ma.chambermaster.com/events/details/networking-after-hours-01-27-2011-148
END:VEVENT

END:VCALENDAR
