BEGIN:VCALENDAR
VERSION:2.0
PRODID:-//ChamberMaster//Event Calendar 2.0//EN
METHOD:PUBLISH
X-PUBLISHED-TTL:P3D
REFRESH-INTERVAL:P3D
CALSCALE:GREGORIAN
BEGIN:VEVENT
DTSTART:20100420T114500Z
DTEND:20100420T130000Z
X-MICROSOFT-CDO-ALLDAYEVENT:FALSE
SUMMARY:Networking on the Threes
DESCRIPTION:Networking on the Threes
X-ALT-DESC;FMTTYPE=text/html:<div style="text-align: center">Networking on the Threes</div>
LOCATION:QPL Image Group275 Boton RoadChelmsford
UID:e.554.100
SEQUENCE:3
DTSTAMP:20260423T181125Z
URL:http://lowell-ma.chambermaster.com/events/details/networking-on-the-threes-04-20-2010-100
END:VEVENT

END:VCALENDAR
