BEGIN:VCALENDAR
VERSION:2.0
PRODID:-//ChamberMaster//Event Calendar 2.0//EN
METHOD:PUBLISH
X-PUBLISHED-TTL:P3D
REFRESH-INTERVAL:P3D
CALSCALE:GREGORIAN
BEGIN:VEVENT
DTSTART:20100513T114500Z
DTEND:20100513T130000Z
X-MICROSOFT-CDO-ALLDAYEVENT:FALSE
SUMMARY:Networking on the Threes
DESCRIPTION:Networking on the Threes
X-ALT-DESC;FMTTYPE=text/html:<div style="text-align: center">Networking on the Threes</div>
LOCATION:ABC Automated Business Controls15 Tyngsboro Rd. 2LNo. Chelmsford\, MA
UID:e.554.111
SEQUENCE:3
DTSTAMP:20260422T183131Z
URL:http://lowell-ma.chambermaster.com/events/details/networking-on-the-threes-05-13-2010-111
END:VEVENT

END:VCALENDAR
