BEGIN:VCALENDAR
VERSION:2.0
PRODID:-//ChamberMaster//Event Calendar 2.0//EN
METHOD:PUBLISH
X-PUBLISHED-TTL:P3D
REFRESH-INTERVAL:P3D
CALSCALE:GREGORIAN
BEGIN:VEVENT
DTSTART:20101116T170000Z
DTEND:20101116T183000Z
X-MICROSOFT-CDO-ALLDAYEVENT:FALSE
SUMMARY:Networking on the Threes
DESCRIPTION:Networking on the Threes\n\n	limited space
X-ALT-DESC;FMTTYPE=text/html:<p style="text-align: center">\n	Networking on the Threes<br />\n	limited space</p>\n
LOCATION:Chelmsford Crossing 199 Chelmsford Street Chelmsford
UID:e.554.140
SEQUENCE:3
DTSTAMP:20260424T025514Z
URL:http://lowell-ma.chambermaster.com/events/details/networking-on-the-threes-11-16-2010-140
END:VEVENT

END:VCALENDAR
