BEGIN:VCALENDAR
VERSION:2.0
PRODID:-//ChamberMaster//Event Calendar 2.0//EN
METHOD:PUBLISH
X-PUBLISHED-TTL:P3D
REFRESH-INTERVAL:P3D
CALSCALE:GREGORIAN
BEGIN:VEVENT
DTSTART:20100511T113000Z
DTEND:20100511T130000Z
X-MICROSOFT-CDO-ALLDAYEVENT:FALSE
SUMMARY:WISE Breakfast
DESCRIPTION:WISE BreakfastandWomen Working Wonders
X-ALT-DESC;FMTTYPE=text/html:<div style="text-align: center">WISE&nbsp\;Breakfast</div><div style="text-align: center">and</div><div style="text-align: center">Women Working Wonders</div>
LOCATION:Wyndham Hotel123 Old River RoadAndover
UID:e.554.108
SEQUENCE:3
DTSTAMP:20260422T183131Z
URL:http://lowell-ma.chambermaster.com/events/details/wise-breakfast-05-11-2010-108
END:VEVENT

END:VCALENDAR
